BEGIN:VCALENDAR
VERSION:2.0
PRODID:-//Songbirds Venue - ECPv6.15.20//NONSGML v1.0//EN
CALSCALE:GREGORIAN
METHOD:PUBLISH
X-WR-CALNAME:Songbirds Venue
X-ORIGINAL-URL:https://venue.songbirds.org
X-WR-CALDESC:Events for Songbirds Venue
REFRESH-INTERVAL;VALUE=DURATION:PT1H
X-Robots-Tag:noindex
X-PUBLISHED-TTL:PT1H
BEGIN:VTIMEZONE
TZID:America/New_York
BEGIN:DAYLIGHT
TZOFFSETFROM:-0500
TZOFFSETTO:-0400
TZNAME:EDT
DTSTART:20250309T070000
END:DAYLIGHT
BEGIN:STANDARD
TZOFFSETFROM:-0400
TZOFFSETTO:-0500
TZNAME:EST
DTSTART:20251102T060000
END:STANDARD
BEGIN:DAYLIGHT
TZOFFSETFROM:-0500
TZOFFSETTO:-0400
TZNAME:EDT
DTSTART:20260308T070000
END:DAYLIGHT
BEGIN:STANDARD
TZOFFSETFROM:-0400
TZOFFSETTO:-0500
TZNAME:EST
DTSTART:20261101T060000
END:STANDARD
BEGIN:DAYLIGHT
TZOFFSETFROM:-0500
TZOFFSETTO:-0400
TZNAME:EDT
DTSTART:20270314T070000
END:DAYLIGHT
BEGIN:STANDARD
TZOFFSETFROM:-0400
TZOFFSETTO:-0500
TZNAME:EST
DTSTART:20271107T060000
END:STANDARD
END:VTIMEZONE
BEGIN:VEVENT
DTSTART;TZID=America/New_York:20260417T190000
DTEND;TZID=America/New_York:20260417T190000
DTSTAMP:20260421T062502
CREATED:20260127T203703Z
LAST-MODIFIED:20260127T203703Z
UID:10000040-1776452400-1776452400@venue.songbirds.org
SUMMARY:Tenille Townes
DESCRIPTION:Buy Tickets: eventim.us/tenilletownes2026\n\nDoors at 6:00 PM \nShow at 7:00 PM \nSeated Show \n  \nTenille Townes writes songs that reach out to anyone trying to make sense of a complicated world. Born in Canada and now based in Nashville\, her heartfelt and introspective songwriting has helped her build a deeply connected\, global audience drawn to her honesty and emotional clarity.\n\nOver the past five years\, Townes has reached major career milestones\, including touring with legendary artists such as Stevie Nicks\, Miranda Lambert\, Shania Twain\, George Strait\, Keith Urban\, Reba\, Zac Brown Band\, and Dierks Bentley. Her work has earned widespread recognition\, including two JUNO Awards\, two Academy of Country Music Awards\, and 17 Canadian Country Music Association Awards.\n\nBreakout songs like “Jersey on the Wall” and “Somebody’s Daughter” helped make Townes the first female artist in Mediabase Canada history to achieve two No. 1 singles. Her debut album The Lemonade Stand won Country Album of the Year at the 2021 JUNO Awards\, followed by Masquerades in 2022\, a project that leaned further into vulnerability and reflection.\n\nIn 2022\, Townes toured across Europe and the UK and later embarked on a 3\,000 mile train journey through Southern Canada\, playing 65 shows in 15 days in support of local food banks. Songs written during that experience became Train Track Worktapes\, an EP recorded in the train’s caboose.\n\nNow entering a new chapter\, Townes is preparing to release her forthcoming album in 2026. The lead single\, “Enabling\,” explores the delicate balance between compassion and self preservation. Written during a period of transition\, the album is her most stripped back and introspective work to date\, offering songs that make room for growth\, boundaries\, and the courage to choose yourself.\n\nBuy Tickets: eventim.us/tenilletownes2026\n\n  \nVenue Policies (Please Read): \nNo large bags or backpacks. Small purses or clutches only. Outside food and drink are not allowed unless otherwise noted. Exceptions may be made for medical or infant needs. All bags are subject to inspection. Concerts are 18+\, and we ID everyone at the door. Ages 17 & under are allowed IF accompanied by a parent/guardian. All ticket sales final unless the show is cancelled by the venue. If you have questions\, please contact the venue in advance. \nPlease be aware that we are contractually obligated to charge a minimal service fee for show tickets\, online and in person\, by our ticket provider. Thanks for supporting Songbirds!
URL:https://venue.songbirds.org/event/tenille-townes/
LOCATION:Songbirds\, 206 W Main Street\, Chattanooga\, TN\, 37408\, United States
CATEGORIES:Concerts
ATTACH;FMTTYPE=image/png:https://venue.songbirds.org/wp-content/uploads/sites/2/2026/01/3-4.png
ORGANIZER;CN="Songbirds":MAILTO:info@songbirdsfoundation.org
END:VEVENT
END:VCALENDAR