BEGIN:VCALENDAR
VERSION:2.0
PRODID:-//Songbirds Venue - ECPv6.15.20//NONSGML v1.0//EN
CALSCALE:GREGORIAN
METHOD:PUBLISH
X-WR-CALNAME:Songbirds Venue
X-ORIGINAL-URL:https://venue.songbirds.org
X-WR-CALDESC:Events for Songbirds Venue
REFRESH-INTERVAL;VALUE=DURATION:PT1H
X-Robots-Tag:noindex
X-PUBLISHED-TTL:PT1H
BEGIN:VTIMEZONE
TZID:America/New_York
BEGIN:DAYLIGHT
TZOFFSETFROM:-0500
TZOFFSETTO:-0400
TZNAME:EDT
DTSTART:20250309T070000
END:DAYLIGHT
BEGIN:STANDARD
TZOFFSETFROM:-0400
TZOFFSETTO:-0500
TZNAME:EST
DTSTART:20251102T060000
END:STANDARD
BEGIN:DAYLIGHT
TZOFFSETFROM:-0500
TZOFFSETTO:-0400
TZNAME:EDT
DTSTART:20260308T070000
END:DAYLIGHT
BEGIN:STANDARD
TZOFFSETFROM:-0400
TZOFFSETTO:-0500
TZNAME:EST
DTSTART:20261101T060000
END:STANDARD
BEGIN:DAYLIGHT
TZOFFSETFROM:-0500
TZOFFSETTO:-0400
TZNAME:EDT
DTSTART:20270314T070000
END:DAYLIGHT
BEGIN:STANDARD
TZOFFSETFROM:-0400
TZOFFSETTO:-0500
TZNAME:EST
DTSTART:20271107T060000
END:STANDARD
END:VTIMEZONE
BEGIN:VEVENT
DTSTART;TZID=America/New_York:20260306T190000
DTEND;TZID=America/New_York:20260306T190000
DTSTAMP:20260422T101641
CREATED:20260213T182349Z
LAST-MODIFIED:20260213T182349Z
UID:10000052-1772823600-1772823600@venue.songbirds.org
SUMMARY:Fireside Collective
DESCRIPTION:Buy Tickets: eventim.us/firesidecollective2026\n\nDoors at 6:00 PM \nShow at 7:00 PM \nSeated Show \n  \nBorn out of the creative pulse and mountain spirit of Asheville\, Fireside Collective has spent the last decade growing into one of the most dynamic forces in modern newgrass. \nWhat began in 2014 as a bluegrass rooted collaboration between Joe Cicero on guitar\, Jesse Iaquinto on mandolin\, Tommy Maher on resonator guitar\, and Carson White on bass quickly expanded beyond its original songwriting circle. When Iaquinto first brought the group together\, the goal was simple. Support original songs with tight musicianship and heart. \nThen the road reshaped the vision. \nAfter the pandemic\, the band returned to touring with renewed inspiration\, looking toward improvisational legends like Grateful Dead as their creative North Star. Setlists became fluid. Songs stretched into expansive movements. Improvisation took center stage. Each night became its own musical conversation. \nIn late 2023\, the addition of drummer Michael Tillis pushed the sound even further. Heavy funk grooves\, classic rock textures\, touches of techno\, and hints of world music began weaving into their bluegrass foundation. \nBy the end of 2024\, Fireside Collective had fully transformed into something beautifully hybrid. Rooted in folk and bluegrass tradition\, yet boldly colored with rock and funk energy. The result is a vibrant\, genre bending live experience that feels both grounded and exploratory. \nThis is not just a concert. It is a musical journey. \n\nBuy Tickets: eventim.us/firesidecollective2026\n\n  \nVenue Policies (Please Read): \nNo large bags or backpacks. Small purses or clutches only. Outside food and drink are not allowed unless otherwise noted. Exceptions may be made for medical or infant needs. All bags are subject to inspection. Concerts are 18+\, and we ID everyone at the door. Ages 17 & under are allowed IF accompanied by a parent/guardian. All ticket sales final unless the show is cancelled by the venue. If you have questions\, please contact the venue in advance. \nPlease be aware that we are contractually obligated to charge a minimal service fee for show tickets\, online and in person\, by our ticket provider. Thanks for supporting Songbirds!
URL:https://venue.songbirds.org/event/fireside-collective/
LOCATION:Songbirds\, 206 W Main Street\, Chattanooga\, TN\, 37408\, United States
CATEGORIES:Concerts
ATTACH;FMTTYPE=image/jpeg:https://venue.songbirds.org/wp-content/uploads/sites/2/2026/02/Fireside-Collective-Banner.jpg
ORGANIZER;CN="Songbirds":MAILTO:info@songbirdsfoundation.org
END:VEVENT
BEGIN:VEVENT
DTSTART;TZID=America/New_York:20260307T193000
DTEND;TZID=America/New_York:20260307T203000
DTSTAMP:20260422T101641
CREATED:20251207T051318Z
LAST-MODIFIED:20260312T164855Z
UID:10000003-1772911800-1772915400@venue.songbirds.org
SUMMARY:SPANKthe80s
DESCRIPTION:Doors at 6:30 PM\nShow at 7:30 PM\nStanding Show \nSPANKthe80s: The Ultimate 80’s Tribute Band Experience \nGet ready to dance the night away and relive the neon-colored\, hair spray-infused glory of the 80’s. SPANKthe80s\, the nation’s premiere 80’s tribute band\, brings the era of excess back to life with the best songs of the decade and an over-the-top visual spectacle. \nSince 1999\, SPANKthe80s has been electrifying audiences with their high-energy shows featuring the biggest hits of the 80’s. From Michael Jackson and Prince to Bon Jovi and Journey\, all your 80’s favorites are here. SPANKthe80s recreates the sound\, style\, and vibe of the 80’s so authentically that you’ll swear you’ve traveled back in time. \nThe band captures the musical brilliance and stylistic excesses of the 80’s to a tee. SPANKthe80s pours passion and intensity into every song\, whipping the crowd into a frenzy of nostalgia and fun. \nA SPANKthe80s show is an unforgettable assault on the senses. An amazing light show\, eye-popping 80’s fashion\, and between-song banter from the band transport the audience to the era of big hair and even bigger hooks. There’s no better party than a SPANKthe80s show. \nWhether at a club\, private event\, or festival\, SPANKthe80s always delivers an experience to remember. Their high-energy tribute is perfect for audiences craving a fun\, nostalgic night of music\, dancing and revelry. Everything SPANKthe80s at www.spankthe80s.com. \nAbout SPANKthe80s \nSPANKthe80s is one of the nation’s premier 80’s tribute bands. The group has been performing their high-energy musical tribute to the 80’s era since 1999. SPANKthe80s recreates the sounds\, styles\, and vibe of the 80’s with hits from Michael Jackson\, Prince\, Bon Jovi\, Journey\, and many more. Their shows feature eye-popping fashion\, an incredible light show\, and nonstop energy and fun. For an unforgettable night of music and nostalgia\, SPANKthe80s delivers the ultimate 80’s experience. There is no better party than a SPANKthe80s show! \n\nBuy tickets: eventim.us/spankthe80s\n\nVenue Policies (Please Read): \nNo large bags or backpacks. Small purses or clutches only. Outside food and drink are not allowed unless otherwise noted. Exceptions may be made for medical or infant needs. All bags are subject to inspection. Concerts are 18+\, and we ID everyone at the door. Ages 17 & under are allowed IF accompanied by a parent/guardian. All ticket sales final unless the show is cancelled by the venue. If you have questions\, please contact the venue in advance. \nPlease be aware that we are contractually obligated to charge a minimal service fee for show tickets\, online and in person\, by our ticket provider. Thanks for supporting Songbirds!
URL:https://venue.songbirds.org/event/spankthe80s/
LOCATION:Songbirds\, 206 W Main Street\, Chattanooga\, TN\, 37408\, United States
CATEGORIES:Concerts
ATTACH;FMTTYPE=image/jpeg:https://venue.songbirds.org/wp-content/uploads/sites/2/2025/12/SPANKthe80s-Banner.jpg
ORGANIZER;CN="Songbirds":MAILTO:info@songbirdsfoundation.org
END:VEVENT
BEGIN:VEVENT
DTSTART;TZID=America/New_York:20260309T190000
DTEND;TZID=America/New_York:20260309T190000
DTSTAMP:20260422T101641
CREATED:20260129T225505Z
LAST-MODIFIED:20260311T213345Z
UID:10000034-1773082800-1773082800@venue.songbirds.org
SUMMARY:Marty O'Reilly
DESCRIPTION:Buy Tickets: eventim.us/wafform.aspx?_act=eventtickets&_pky=678781\n\nDoors at 6:00 PM \nShow at 7:00 PM \nSeated Show \n  \nMarty O’Reilly’s music feels timeless\, like an old story told in a new way. His raw\, soulful voice and gritty guitar playing form the foundation of a sound rooted in Americana. Drawing inspiration from folk icons like Woody Guthrie\, blues legends like Howlin’ Wolf\, gospel pioneers like Sister Rosetta Thorpe\, and storytellers like Tom Waits\, Marty’s music captivates and connects audiences. \nHis live performances aren’t just concerts; they’re cathartic experiences. From soft and haunting moments to wild and electric highs\, his shows linger with you long after the lights come up. Marty’s songs dig deep into the human experience\, exploring themes of loneliness\, connection\, love\, and loss. Whether performing solo or with a full band\, he brings listeners into his world\, making them feel like part of the story. \nOver years of relentless touring and self-funded albums\, Marty has built a dedicated following. He’s shared the stage with Shakey Graves\, St. Paul & The Broken Bones\, and Sarah Jarosz and played festivals like Bottlerock and High Sierra Music Festival. Through it all\, he remains focused on creating music that is honest\, meaningful\, and profoundly real. \n\nBuy Tickets: eventim.us/wafform.aspx?_act=eventtickets&_pky=678781\n\n  \nVenue Policies (Please Read): \nNo large bags or backpacks. Small purses or clutches only. Outside food and drink are not allowed unless otherwise noted. Exceptions may be made for medical or infant needs. All bags are subject to inspection. Concerts are 18+\, and we ID everyone at the door. Ages 17 & under are allowed IF accompanied by a parent/guardian. All ticket sales final unless the show is cancelled by the venue. If you have questions\, please contact the venue in advance. \nPlease be aware that we are contractually obligated to charge a minimal service fee for show tickets\, online and in person\, by our ticket provider. Thanks for supporting Songbirds!
URL:https://venue.songbirds.org/event/marty-oreilly-2/
LOCATION:Songbirds\, 206 W Main Street\, Chattanooga\, TN\, 37408\, United States
CATEGORIES:Concerts,Party
ATTACH;FMTTYPE=image/jpeg:https://venue.songbirds.org/wp-content/uploads/sites/2/2026/01/Marty_1600x900.jpg
ORGANIZER;CN="Songbirds":MAILTO:info@songbirdsfoundation.org
END:VEVENT
BEGIN:VEVENT
DTSTART;TZID=America/New_York:20260313T190000
DTEND;TZID=America/New_York:20260313T190000
DTSTAMP:20260422T101641
CREATED:20260130T170056Z
LAST-MODIFIED:20260311T163856Z
UID:10000044-1773428400-1773428400@venue.songbirds.org
SUMMARY:Tae Lewis
DESCRIPTION:Buy Tickets: eventim.us/taelewis\n\nDoors 6 PM \nShow 7 PM \nSeated Show \n  \nA North Carolina native\, Tae Lewis started singing in church and found country music at 13. \nDrawing on artists like Eddie Rabbit\, Ronnie Milsap\, and Vince Gill\, Tae’s built a signature sound. \nHe scored a breakout sync on the TV series “Shameless” with his single “Good Luvin.” In 2023\, Tractor Supply named him Emerging Artist\, pairing him with mentors Lainey Wilson and Lauren Alaina. \nIn 2024\, Tae completed as a top 9 finalist on NBC’s “The Voice” under coaches Reba McEntire and Dan + Shay. \n  \nTyson Leamon is a Tennessee Valley native whose soulful voice and heartfelt lyrics reflect classic American values. Raised in a musical\, gospel-rooted family\, he began singing at age three and toured with his pastor father before joining the gospel group Heirline at 19. \nIn 2021\, Tyson released his debut album Guitar and a Bible\, followed by fan-favorite singles including “High Road” with Jacob Bryant\, “I Fell for Memphis\,” “Oh Miss Carolina\,” and the University of Tennessee anthem “Vol Y’all.” His latest singles\, “Temptation” and “California High”\, appear on an upcoming album. \nTyson has shared the stage with artists such as The Steel Woods\, Confederate Railroad\, and The Kentucky Headhunters\, and continues to write and perform music rooted in his heritage. \n\nBuy Tickets: eventim.us/taelewis\n\n  \nVenue Policies (Please Read): \nNo large bags or backpacks. Small purses or clutches only. Outside food and drink are not allowed unless otherwise noted. Exceptions may be made for medical or infant needs. All bags are subject to inspection. Concerts are 18+\, and we ID everyone at the door. Ages 17 & under are allowed IF accompanied by a parent/guardian. All ticket sales final unless the show is cancelled by the venue. If you have questions\, please contact the venue in advance. \nPlease be aware that we are contractually obligated to charge a minimal service fee for show tickets\, online and in person\, by our ticket provider. Thanks for supporting Songbirds!
URL:https://venue.songbirds.org/event/tae-lewis/
LOCATION:Songbirds\, 206 W Main Street\, Chattanooga\, TN\, 37408\, United States
CATEGORIES:Concerts
ATTACH;FMTTYPE=image/png:https://venue.songbirds.org/wp-content/uploads/sites/2/2026/01/X-1.png
ORGANIZER;CN="Songbirds":MAILTO:info@songbirdsfoundation.org
END:VEVENT
BEGIN:VEVENT
DTSTART;TZID=America/New_York:20260321T190000
DTEND;TZID=America/New_York:20260321T190000
DTSTAMP:20260422T101641
CREATED:20260130T060014Z
LAST-MODIFIED:20260311T200815Z
UID:10000046-1774119600-1774119600@venue.songbirds.org
SUMMARY:Caroline Spence
DESCRIPTION:Buy Tickets: eventim.us/carolinespence\n\nDoors 6:00PM \nShow 7:00 PM \nSeated Show \n  \nCaroline Spence is a singer-songwriter based in Nashville\, TN. Her five solo albums have been featured by publications like Rolling Stone\, Pitchfork\, and NPR. Established artists like Emmylou Harris\, Matt Berninger (of The National)\, Sarah Jarosz\, and Lori McKenna have joined Caroline on her songs as featured vocalists and her body of work has been streamed over 80 million times. \n  \nCaroline has toured as the opening act for artists such as Tyler Childers\, Mary Chapin Carpenter\, John Moreland\, Madi Diaz\, Hayes Carll\, and American Aquarium in addition to headlining shows across the US\, the UK\, and Europe. \n  \nOpening the evening for Caroline Spence is Rachel McIntyre Smith\, an East Tennessee songwriter known for her lyrically driven “comfort twang” sound. Holler Magazine describes her as “Loretta Lynn for the TikTok Generation\,” a nod to her ability to honor classic country storytelling while speaking to a modern audience. \nRachel’s musical journey began with classical piano at age nine\, earning her two Tennessee State Piano Competition titles and the Paderewski Medal for ten years of superior Guild ratings. That strong foundation in music theory led her to explore guitar\, ukulele\, and songwriting\, crafting songs rich with wit\, vulnerability\, and melodic warmth. \nHer 2022 debut EP Glory Daze garnered attention from BBC Radio\, Spotify’s Best of Fresh Finds Country\, and respected tastemaker Grady Smith. In 2024\, she released Honeysuckle Friend\, a collection of her most poignant work to date\, featuring banjo\, mandolin\, and lush harmonies that lean into Americana textures. \nAmericana Highways calls her “a vocal descendant of Alison Krauss\,” and her smooth delivery paired with bright style and small-town charm makes her a natural complement to an evening of thoughtful\, heartfelt songwriting. \n\n\nBuy Tickets: eventim.us/carolinespence\n\n  \nVenue Policies (Please Read): \nNo large bags or backpacks. Small purses or clutches only. Outside food and drink are not allowed unless otherwise noted. Exceptions may be made for medical or infant needs. All bags are subject to inspection. Concerts are 18+\, and we ID everyone at the door. Ages 17 & under are allowed IF accompanied by a parent/guardian. All ticket sales final unless the show is cancelled by the venue. If you have questions\, please contact the venue in advance. \nPlease be aware that we are contractually obligated to charge a minimal service fee for show tickets\, online and in person\, by our ticket provider. Thanks for supporting Songbirds!
URL:https://venue.songbirds.org/event/caroline-spence/
LOCATION:Songbirds\, 206 W Main Street\, Chattanooga\, TN\, 37408\, United States
CATEGORIES:Concerts
ATTACH;FMTTYPE=image/png:https://venue.songbirds.org/wp-content/uploads/sites/2/2026/01/Caroline-Spence-Final-Twitter-Post.png
ORGANIZER;CN="Songbirds":MAILTO:info@songbirdsfoundation.org
END:VEVENT
BEGIN:VEVENT
DTSTART;TZID=America/New_York:20260326T190000
DTEND;TZID=America/New_York:20260326T190000
DTSTAMP:20260422T101641
CREATED:20251207T053704Z
LAST-MODIFIED:20260319T151344Z
UID:10000007-1774551600-1774551600@venue.songbirds.org
SUMMARY:Yasmin Williams
DESCRIPTION:Buy tickets: eventim.us/yasmin_williams\n\nDoors at 6:00 PM\nShow at 7:00 PM\nSeated Show \nWhen guitarist and composer Yasmin Williams sits down to compose\, she does not search her subconscious for elaborate melodies or clever chord progressions. Instead\, she goes granular—fixating on a single note. She plays it again and again\, sustaining it\, adjusting the attack or release\, subtly shifting its character. Eventually\, other notes begin to gather around it\, forming chords and expanding its world. Williams calls this process “ruminating\,” and it is central to her writing. \n“I’ve learned a little about how to sit with a note\, and to give things time\,” the Virginia native says. “You find some tiny idea and just play it over and over again until something else appears. You have to trust that sometimes a note will take you where it wants to go next.” That intuitive patience led to the breathtakingly tactile and quietly riveting Acadia\, her Nonesuch debut. Across nine original compositions\, Williams expands dramatically on the sonic landscape she began shaping with her acclaimed 2021 release\, Urban Driftwood. \nIn addition to the crisp fingerpicked guitar that established her as a rising force in instrumental folk\, Williams performs on kora\, harp guitar\, banjo\, electric guitar\, and bass with striking authority. While her earlier recordings were largely solo endeavors\, Acadia finds her collaborating across a broad stylistic spectrum\, including vocalist Aoife O’Donovan\, violinist Darrian Donovan Thomas\, folk quartet Darlingside\, synthesist Rich Ruth\, and jazz alto saxophonist Immanuel Wilkins. \nThough the songs on Acadia evoke rolling hills and rustic rambles\, they are far from traditional folk. Many unfold as intricate suites\, marked by sudden shifts in mood\, spontaneous reharmonizations\, and extended tension-building passages more commonly associated with progressive rock. \nWilliams organized Acadia in three movements: an opening section that channels the exuberance of old-time music while gently stretching its conventions; a middle passage rich with layered textures and atmospheric expanse; and a final segment introducing electric guitars and drums\, embracing an experimental and improvisational spirit. \nWritten while touring\, the music carries that momentum within it. There is breath\, motion\, and a sense of the world unfolding in real time. \nIt is music that feels alive. \nJoining Yasmin Williams is East Tennessee native Rachel McIntyre Smith\, a songwriter whose comfort-twang storytelling bridges tradition and modern charm. Holler Magazine calls her “Loretta Lynn for the TikTok Generation\,” and that blend of classic country influence with a fresh\, relevant perspective shines through every lyric. \nA classically trained pianist who began lessons at age nine\, Rachel won the Tennessee State Piano Competition twice and earned the prestigious Paderewski Medal for ten consecutive years of superior Guild ratings. Her deep foundation in music theory shaped her multi-instrumental approach\, leading her to teach herself guitar and ukulele while developing a distinct\, melody-driven songwriting voice. \nHer debut EP Glory Daze was featured on BBC Radio and Spotify’s Best of Fresh Finds Country\, and the title track was named one of the best country songs of 2022 by Grady Smith. Her latest release\, Honeysuckle Friend\, highlights poignant lyrics layered with banjo\, mandolin\, and rich three-part harmonies. \nWith brightly colored style\, smooth vocals\, and small-town warmth\, Rachel brings a heartfelt\, roots-inspired energy that beautifully complements an evening of expressive\, genre-bending musicianship. \n\nBuy tickets: eventim.us/yasmin_williams\n\nVenue Policies (Please Read): \nNo large bags or backpacks. Small purses or clutches only. Outside food and drink are not allowed unless otherwise noted. Exceptions may be made for medical or infant needs. All bags are subject to inspection. Concerts are 18+\, and we ID everyone at the door. Ages 17 & under are allowed IF accompanied by a parent/guardian. All ticket sales final unless the show is cancelled by the venue. If you have questions\, please contact the venue in advance. \nPlease be aware that we are contractually obligated to charge a minimal service fee for show tickets\, online and in person\, by our ticket provider. Thanks for supporting Songbirds!
URL:https://venue.songbirds.org/event/yasmin-williams/
LOCATION:Songbirds\, 206 W Main Street\, Chattanooga\, TN\, 37408\, United States
CATEGORIES:Concerts
ATTACH;FMTTYPE=image/jpeg:https://venue.songbirds.org/wp-content/uploads/sites/2/2025/12/ig-1.jpg
ORGANIZER;CN="Songbirds":MAILTO:info@songbirdsfoundation.org
END:VEVENT
BEGIN:VEVENT
DTSTART;TZID=America/New_York:20260327T190000
DTEND;TZID=America/New_York:20260327T190000
DTSTAMP:20260422T101641
CREATED:20260311T011948Z
LAST-MODIFIED:20260327T062750Z
UID:10000062-1774638000-1774638000@venue.songbirds.org
SUMMARY:The Banshees
DESCRIPTION:Buy Tickets: eventim.us/thebanshees\n\nDoors at 6:00 PM \nShow at 7:00 PM \nSeated Show \n  \nThe Banshees bring their electrifying sound to Songbirds for a high-energy night of live music on Friday\, March 27th\, 2026. Known for their dynamic performances and powerful stage presence\, The Banshees deliver a show that keeps audiences engaged from the first note to the final encore. \nThis standing room performance showcases a lively atmosphere where fans can experience the band’s sound up close in the intimate Songbirds venue. Gather your friends\, grab a drink\, and enjoy a night dedicated to great live music \n\n\nBuy Tickets: eventim.us/thebanshees\n\n  \nVenue Policies (Please Read): \nNo large bags or backpacks. Small purses or clutches only. Outside food and drink are not allowed unless otherwise noted. Exceptions may be made for medical or infant needs. All bags are subject to inspection. Concerts are 18+\, and we ID everyone at the door. Ages 17 & under are allowed IF accompanied by a parent/guardian. All ticket sales final unless the show is cancelled by the venue. If you have questions\, please contact the venue in advance. \nPlease be aware that we are contractually obligated to charge a minimal service fee for show tickets\, online and in person\, by our ticket provider. Thanks for supporting Songbirds!
URL:https://venue.songbirds.org/event/the-banshees/
LOCATION:Songbirds\, 206 W Main Street\, Chattanooga\, TN\, 37408\, United States
CATEGORIES:Concerts,Party
ATTACH;FMTTYPE=image/jpeg:https://venue.songbirds.org/wp-content/uploads/sites/2/2026/03/thebansheesX_.jpg
ORGANIZER;CN="Songbirds":MAILTO:info@songbirdsfoundation.org
END:VEVENT
BEGIN:VEVENT
DTSTART;TZID=America/New_York:20260328T190000
DTEND;TZID=America/New_York:20260328T190000
DTSTAMP:20260422T101641
CREATED:20260126T200732Z
LAST-MODIFIED:20260314T004325Z
UID:10000035-1774724400-1774724400@venue.songbirds.org
SUMMARY:JACKOPIERCE
DESCRIPTION:Buy Tickets: eventim.us/jackopierce\n\nDoors at 6:00 PM \nShow at 7:00 PM \nSeated Show \nJack O’Neill and Cary Pierce\, the “Jacko” and “Pierce\,” make up the seminal duo Jackopierce. They’ve been making music for 35 years that has amassed a loyal following of millions of fans around the world with their super high-energy live shows and what the Dallas Morning News calls “spotless harmonies.” \nJackopierce began in 1988 as theater students at the legendary Meadows School of the Arts at SMU in Dallas. The duo steadily made a name for themselves\, and within 5 years\, they were signed to major label A&M and recording their debut\, “Bringing on the Weather” with uber-producer\, T Bone Burnett. They have toured three continents\, nine \ncountries\, and 46 states. They have shared the stage with John Mayer\, Dave Matthews\, Matchbox20\, Counting Crows\, Wallflowers\, Sheryl Crow\, Toad the Wet Sprocket\, Vertical Horizon\, Lyle Lovett – to name a few. After a five-year breakup\, the guys reunited in 2002 to test the waters. They were warm – and the guys have been back together ever since. Jackopierce is busier than ever before\, releasing new music monthly and touring all across the country. Jack & Cary have a totally renewed creative vigor\, mutual respect \nand deep gratitude for each other and their fans. “Even after 35 years I feel like we’re just getting started\,” said Cary. “I love this guy like a brother\,” says Jack. \n\nBuy Tickets: eventim.us/jackopierce\n\n  \nVenue Policies (Please Read): \nNo large bags or backpacks. Small purses or clutches only. Outside food and drink are not allowed unless otherwise noted. Exceptions may be made for medical or infant needs. All bags are subject to inspection. Concerts are 18+\, and we ID everyone at the door. Ages 17 & under are allowed IF accompanied by a parent/guardian. All ticket sales final unless the show is cancelled by the venue. If you have questions\, please contact the venue in advance. \nPlease be aware that we are contractually obligated to charge a minimal service fee for show tickets\, online and in person\, by our ticket provider. Thanks for supporting Songbirds!
URL:https://venue.songbirds.org/event/jackopierce/
LOCATION:Songbirds\, 206 W Main Street\, Chattanooga\, TN\, 37408\, United States
CATEGORIES:Concerts
ATTACH;FMTTYPE=image/png:https://venue.songbirds.org/wp-content/uploads/sites/2/2026/01/X_TWITTER.png
ORGANIZER;CN="Songbirds":MAILTO:info@songbirdsfoundation.org
END:VEVENT
END:VCALENDAR