BEGIN:VCALENDAR
VERSION:2.0
PRODID:-//Songbirds Venue - ECPv6.15.20//NONSGML v1.0//EN
CALSCALE:GREGORIAN
METHOD:PUBLISH
X-WR-CALNAME:Songbirds Venue
X-ORIGINAL-URL:https://venue.songbirds.org
X-WR-CALDESC:Events for Songbirds Venue
REFRESH-INTERVAL;VALUE=DURATION:PT1H
X-Robots-Tag:noindex
X-PUBLISHED-TTL:PT1H
BEGIN:VTIMEZONE
TZID:America/New_York
BEGIN:DAYLIGHT
TZOFFSETFROM:-0500
TZOFFSETTO:-0400
TZNAME:EDT
DTSTART:20250309T070000
END:DAYLIGHT
BEGIN:STANDARD
TZOFFSETFROM:-0400
TZOFFSETTO:-0500
TZNAME:EST
DTSTART:20251102T060000
END:STANDARD
BEGIN:DAYLIGHT
TZOFFSETFROM:-0500
TZOFFSETTO:-0400
TZNAME:EDT
DTSTART:20260308T070000
END:DAYLIGHT
BEGIN:STANDARD
TZOFFSETFROM:-0400
TZOFFSETTO:-0500
TZNAME:EST
DTSTART:20261101T060000
END:STANDARD
BEGIN:DAYLIGHT
TZOFFSETFROM:-0500
TZOFFSETTO:-0400
TZNAME:EDT
DTSTART:20270314T070000
END:DAYLIGHT
BEGIN:STANDARD
TZOFFSETFROM:-0400
TZOFFSETTO:-0500
TZNAME:EST
DTSTART:20271107T060000
END:STANDARD
END:VTIMEZONE
BEGIN:VEVENT
DTSTART;TZID=America/New_York:20260103T190000
DTEND;TZID=America/New_York:20260103T203000
DTSTAMP:20260422T143337
CREATED:20251214T030244Z
LAST-MODIFIED:20251214T032112Z
UID:10000019-1767466800-1767472200@venue.songbirds.org
SUMMARY:One For The Road
DESCRIPTION:Buy tickets: eventim.us/onefortheroad\n\nDoors at 6:00 PM\nShow at 7:00 PM\nStanding Show (+ limited table seating)\nwith support from Tyson Leamon! \nSouthern Rock Rooted in the North Georgia Mountains\, the band “One For The Road” has busted onto the Southern Soul and Rock n Roll Highway! \nReady for the open road\, frontman and lead singer Zach Crumley\, drummer Chris Webb\, organ/piano player Joe Morgan\, and bassist Jaithan Neal have worked up a blend of Blue Ridge Blues and Old Honk that keep the crowds screaming for more. \nOpening for acts such as “The Kentucky Headhunters\,” “The Marshall Tucker Band\,” and running with up and comers “Them Dirty Roses\,” “The Georgia Thunderbolts\,” and others. Finding their sound within venues across the South East isn’t a hard task. This North Georgia Independent Band is alive and well! \nPaving the way for the journey and the destination\, they are One For the Road. Come along for the ride and hold on tight! \n\n\n\n\n\n\nBuy tickets: eventim.us/onefortheroad\n\n\n\n\n\n\n\n\n\n\nVenue Policies (Please Read): \nNo large bags or backpacks. Small purses or clutches only. Outside food and drink are not allowed unless otherwise noted. Exceptions may be made for medical or infant needs. All bags are subject to inspection. Concerts are 18+\, and we ID everyone at the door. Ages 17 & under are allowed IF accompanied by a parent/guardian. All ticket sales final unless the show is cancelled by the venue. If you have questions\, please contact the venue in advance. \nPlease be aware that we are contractually obligated to charge a minimal service fee for show tickets\, online and in person\, by our ticket provider. Thanks for supporting Songbirds!
URL:https://venue.songbirds.org/event/one-for-the-road/
LOCATION:Songbirds\, 206 W Main Street\, Chattanooga\, TN\, 37408\, United States
CATEGORIES:Concerts
ATTACH;FMTTYPE=image/jpeg:https://venue.songbirds.org/wp-content/uploads/sites/2/2025/12/OFTRlandscape.jpg
ORGANIZER;CN="Songbirds":MAILTO:info@songbirdsfoundation.org
END:VEVENT
END:VCALENDAR