BEGIN:VCALENDAR
VERSION:2.0
PRODID:-//Songbirds Venue - ECPv6.15.20//NONSGML v1.0//EN
CALSCALE:GREGORIAN
METHOD:PUBLISH
X-ORIGINAL-URL:https://venue.songbirds.org
X-WR-CALDESC:Events for Songbirds Venue
REFRESH-INTERVAL;VALUE=DURATION:PT1H
X-Robots-Tag:noindex
X-PUBLISHED-TTL:PT1H
BEGIN:VTIMEZONE
TZID:America/New_York
BEGIN:DAYLIGHT
TZOFFSETFROM:-0500
TZOFFSETTO:-0400
TZNAME:EDT
DTSTART:20250309T070000
END:DAYLIGHT
BEGIN:STANDARD
TZOFFSETFROM:-0400
TZOFFSETTO:-0500
TZNAME:EST
DTSTART:20251102T060000
END:STANDARD
BEGIN:DAYLIGHT
TZOFFSETFROM:-0500
TZOFFSETTO:-0400
TZNAME:EDT
DTSTART:20260308T070000
END:DAYLIGHT
BEGIN:STANDARD
TZOFFSETFROM:-0400
TZOFFSETTO:-0500
TZNAME:EST
DTSTART:20261101T060000
END:STANDARD
BEGIN:DAYLIGHT
TZOFFSETFROM:-0500
TZOFFSETTO:-0400
TZNAME:EDT
DTSTART:20270314T070000
END:DAYLIGHT
BEGIN:STANDARD
TZOFFSETFROM:-0400
TZOFFSETTO:-0500
TZNAME:EST
DTSTART:20271107T060000
END:STANDARD
END:VTIMEZONE
BEGIN:VEVENT
DTSTART;TZID=America/New_York:20260130T190000
DTEND;TZID=America/New_York:20260130T210000
DTSTAMP:20260424T042211
CREATED:20251214T023140Z
LAST-MODIFIED:20260128T012114Z
UID:10000010-1769799600-1769806800@venue.songbirds.org
SUMMARY:Michael Prewitt & CrunchGrass Supreme
DESCRIPTION:Buy tickets:\n\nDoors at 6:00 PM\nShow at 7:00 PM\nSeated Show \nMichael Prewitt\, mandolinist\, singer-songwriter\, and all-around bluegrass troubadour\, hails from the Cumberland Mountain foothills of southeast Kentucky. He began his musical journey on the fiddle at age six or seven\, switching to mandolin at twelve. Over the years\, he developed a distinctive\, spirited style that reflects a deep debt to Bill Monroe while still embracing adventurous\, outside-the-box improvisation in extended jams. \nFor several years\, Prewitt toured with the Grammy-nominated and IBMA award–winning band Special Consensus\, where his inventive\, hard-driving mandolin work first drew widespread recognition. During his tenure with the band\, he was twice nominated for the IBMA Momentum Award for Instrumentalist of the Year. \nIn early 2024\, Prewitt released his first solo project\, “The Peerless Mountain Sessions\,” a set of traditional fiddle tunes reimagined for a mandolin-bass-banjo trio and recorded live in a single day. The album draws on bluegrass\, old-time\, and Canadian fiddle traditions\, earning praise for its clarity\, authenticity\, and spontaneous energy. \nLater that year\, he showcased his songwriting and vocal abilities with “Something He Can Handle\,” a full-length album praised by Bluegrass Today as “a brilliant effort” and warmly reviewed by Bluegrass Unlimited and various industry bloggers. \nNow performing under his own name\, either solo or with his full band\, CrunchGrass Supreme\, Prewitt delivers a compelling mix of lyrical storytelling\, expressive singing\, and fiery picking to audiences across North America and Europe. \nWith deep roots\, dynamic performances\, and a growing body of both traditional and original music\, Michael Prewitt stands squarely in the shadows of past creative traditionalists like Norman Blake and John Hartford\, embodying the heart and future of contemporary Americana and bluegrass. \nRandy Steele and High Cold Wind are a high energy bluegrass band based out of Chattanooga Tennessee. Flush with clever cover songs\, fresh take originals\, and Steele’s own magnetic stage presence\, they quickly win over audiences. The whole thing started as a support band for Steele’s singer/songwriter touring. Over the last 3 years they’ve found themselves invited to multiple festivals throughout the Southeast US with acts like Greensky Bluegrass\, Yonder Mountain String Band\, East Nash Grass and sharing bills and stages with Shadowgrass\, The Mountain Grass Unit\, Andy Frasco\, and Hudson Freeman. Joining Steele in the High Cold Wind is flat pick wizard Brad Clark on acoustic guitar. Multiple State\, multiple instrumental contest Champion and well known teacher John Boulware on Mandolin and Slim Pickins Bluegrass’ own Justin Hupp on the upright bass. \n\n\n\n\n\n\nBuy tickets:\n\n\n\n\n\n\nVenue Policies (Please Read): \nNo large bags or backpacks. Small purses or clutches only. Outside food and drink are not allowed unless otherwise noted. Exceptions may be made for medical or infant needs. All bags are subject to inspection. Concerts are 18+\, and we ID everyone at the door. Ages 17 & under are allowed IF accompanied by a parent/guardian. All ticket sales final unless the show is cancelled by the venue. If you have questions\, please contact the venue in advance. \nPlease be aware that we are contractually obligated to charge a minimal service fee for show tickets\, online and in person\, by our ticket provider. Thanks for supporting Songbirds!
URL:https://venue.songbirds.org/event/michael-prewitt/
LOCATION:Songbirds\, 206 W Main Street\, Chattanooga\, TN\, 37408\, United States
CATEGORIES:Concerts
ATTACH;FMTTYPE=image/jpeg:https://venue.songbirds.org/wp-content/uploads/sites/2/2025/12/bluegrasslandscape.jpg
ORGANIZER;CN="Songbirds":MAILTO:info@songbirdsfoundation.org
END:VEVENT
END:VCALENDAR