BEGIN:VCALENDAR
VERSION:2.0
PRODID:-//Songbirds Venue - ECPv6.15.20//NONSGML v1.0//EN
CALSCALE:GREGORIAN
METHOD:PUBLISH
X-ORIGINAL-URL:https://venue.songbirds.org
X-WR-CALDESC:Events for Songbirds Venue
REFRESH-INTERVAL;VALUE=DURATION:PT1H
X-Robots-Tag:noindex
X-PUBLISHED-TTL:PT1H
BEGIN:VTIMEZONE
TZID:America/New_York
BEGIN:DAYLIGHT
TZOFFSETFROM:-0500
TZOFFSETTO:-0400
TZNAME:EDT
DTSTART:20250309T070000
END:DAYLIGHT
BEGIN:STANDARD
TZOFFSETFROM:-0400
TZOFFSETTO:-0500
TZNAME:EST
DTSTART:20251102T060000
END:STANDARD
BEGIN:DAYLIGHT
TZOFFSETFROM:-0500
TZOFFSETTO:-0400
TZNAME:EDT
DTSTART:20260308T070000
END:DAYLIGHT
BEGIN:STANDARD
TZOFFSETFROM:-0400
TZOFFSETTO:-0500
TZNAME:EST
DTSTART:20261101T060000
END:STANDARD
BEGIN:DAYLIGHT
TZOFFSETFROM:-0500
TZOFFSETTO:-0400
TZNAME:EDT
DTSTART:20270314T070000
END:DAYLIGHT
BEGIN:STANDARD
TZOFFSETFROM:-0400
TZOFFSETTO:-0500
TZNAME:EST
DTSTART:20271107T060000
END:STANDARD
END:VTIMEZONE
BEGIN:VEVENT
DTSTART;TZID=America/New_York:20260424T190000
DTEND;TZID=America/New_York:20260424T190000
DTSTAMP:20260422T075950
CREATED:20260109T170509Z
LAST-MODIFIED:20260417T183524Z
UID:10000030-1777057200-1777057200@venue.songbirds.org
SUMMARY:Freddie McClendon w/ Josh Wheeler
DESCRIPTION:Buy Tickets: eventim.us/freddiemcClendon\n\n  \nDoors 6pm \nShow 7pm \nStanding Show \n  \nFreddie McClendon is a singer-songwriter from Greenwood\, South Carolina. He first fell in love with music as a child living in a retirement home where his dad worked\, spending his earliest years dressing up as Elvis and performing for the residents who encouraged him to perform. After his father’s shocking murder in 2023\, McClendon turned to writing songs as a way to process his grief. \nIn 2024 he released Present Memories. In 2025 he appeared on Season 23 of American Idol\, performing his original song “You Never Loved Him\,” which moved Carrie Underwood to tears and prompted Luke Bryan to call him “the next Paul Simon.” \nMcClendon’s songwriting often blends personal history with observations about the South\, most notably in his viral single King Henry\, which challenges the “Good Ole Boys” system and generational corruption in South Carolina. His live shows have grown steadily\, selling out in numerous markets across the southeast. \nHis unreleased tracks “Drinkin’ Crimes\,” “Rambler\,” and “Lover” have already drawn millions of views ahead of their official release\, and he plans to release new music throughout 2026. In early 2026\, he will also join SUSTO on their North American tour as a supporting act. \nThis show will also feature Josh Wheeler as the opener! \nJosh Wheeler is originally from Birmingham\, AL\, but he now calls Chattanooga home. \nJosh is known for his quirky and often humorous songwriting. He mixes acoustic guitar\, ukulele\, and harmonica into his live sets while incorporating live looping. In recent years he has shifted his focus towards songwriting and released his debut album entitled “Seven Stories Tall” in 2021. His most recent album is called “Songs I Wrote in Chiropractic College” which was released in 2023. He has competed in the finals of the Tennessee Songwriters Week in 2024\, 2025\, and 2026. \nHis current sets will feature many new songs and unheard material so don’t miss out! \n\nBuy Tickets: eventim.us/freddiemcClendon\n\nVenue Policies (Please Read): \nNo large bags or backpacks. Small purses or clutches only. Outside food and drink are not allowed unless otherwise noted. Exceptions may be made for medical or infant needs. All bags are subject to inspection. Concerts are 18+\, and we ID everyone at the door. Ages 17 & under are allowed IF accompanied by a parent/guardian. All ticket sales final unless the show is cancelled by the venue. If you have questions\, please contact the venue in advance. \nPlease be aware that we are contractually obligated to charge a minimal service fee for show tickets\, online and in person\, by our ticket provider. Thanks for supporting Songbirds!
URL:https://venue.songbirds.org/event/freddie-mcclendon/
LOCATION:Songbirds\, 206 W Main Street\, Chattanooga\, TN\, 37408\, United States
CATEGORIES:Concerts
ATTACH;FMTTYPE=image/jpeg:https://venue.songbirds.org/wp-content/uploads/sites/2/2026/01/FREDDIEMCCLENDON_1600X900.jpg
ORGANIZER;CN="Songbirds":MAILTO:info@songbirdsfoundation.org
END:VEVENT
BEGIN:VEVENT
DTSTART;TZID=America/New_York:20260425T190000
DTEND;TZID=America/New_York:20260425T190000
DTSTAMP:20260422T075950
CREATED:20260301T032530Z
LAST-MODIFIED:20260312T164634Z
UID:10000058-1777143600-1777143600@venue.songbirds.org
SUMMARY:The Po' Ramblin' Boys
DESCRIPTION:Buy Tickets: eventim.us/poramblinboys2026\n\nDoors at 6:00 PM \nShow at 7:00 PM \nStanding show with limited seating. \nIn just over a decade\, The Po’ Ramblin’ Boys have carved out a respected place in modern bluegrass by honoring tradition while pushing the genre forward with energy and conviction. Fueled by a deep love for the music they play\, the band has traveled extensively across the United States and beyond\, earning devoted fans with their hard-driving sound and electrifying live performances. \nLed by mandolinist and bandleader C.J. Lewandowski\, the group is known for tight harmonies\, exceptional musicianship\, and an onstage chemistry that pulls audiences directly into the experience. Their songs reflect real-life moments from life on the road to personal triumphs and challenges\, delivering stories that feel honest and lived-in. \nThe band received a Grammy nomination for Best Bluegrass Album for 2019’s Toil\, Tears & Trouble and has also been recognized by the International Bluegrass Music Association\, including a nomination for Entertainer of the Year. Their No. 1 single on the Bluegrass Unlimited chart\, “Wanderers Like Me” captures the restless spirit and dedication that defines them. \nThe current lineup features Lewandowski on mandolin\, Jereme Brown on banjo\, Jasper Lorentzen on bass\, John Gooding on guitar\, and Max Silverstein on fiddle. Blending seasoned experience with fresh energy\, the band continues to evolve while remaining deeply rooted in the traditions that shape their sound. As they move into their second decade together\, they remain committed to expanding bluegrass into new spaces while preserving its core authenticity. \n\nBuy Tickets: eventim.us/poramblinboys2026\n\nVenue Policies (Please Read): \nNo large bags or backpacks. Small purses or clutches only. Outside food and drink are not allowed unless otherwise noted. Exceptions may be made for medical or infant needs. All bags are subject to inspection. Concerts are 18+\, and we ID everyone at the door. Ages 17 & under are allowed IF accompanied by a parent/guardian. All ticket sales final unless the show is cancelled by the venue. If you have questions\, please contact the venue in advance. \nPlease be aware that we are contractually obligated to charge a minimal service fee for show tickets\, online and in person\, by our ticket provider. Thanks for supporting Songbirds!
URL:https://venue.songbirds.org/event/the-po-ramblin-boys/
LOCATION:Songbirds\, 206 W Main Street\, Chattanooga\, TN\, 37408\, United States
CATEGORIES:Concerts,Party
ATTACH;FMTTYPE=image/jpeg:https://venue.songbirds.org/wp-content/uploads/sites/2/2026/02/Po-Ramblin-Boys.jpg
ORGANIZER;CN="Songbirds":MAILTO:info@songbirdsfoundation.org
END:VEVENT
BEGIN:VEVENT
DTSTART;TZID=America/New_York:20260428T190000
DTEND;TZID=America/New_York:20260428T190000
DTSTAMP:20260422T075950
CREATED:20260327T192842Z
LAST-MODIFIED:20260327T192842Z
UID:10000067-1777402800-1777402800@venue.songbirds.org
SUMMARY:Polyrhythmics
DESCRIPTION:Buy Tickets: eventim.us/poly2026\n\nDoors at 6:00 PM \nShow at 7:00 PM \nStanding Show with limited seating \n  \nSeattle-based Polyrhythmics bring 16 years of boundary-pushing sound to the stage\, blending funk\, soul\, psychedelic rock\, R&B\, and Afrobeat into a rich\, groove-driven experience. Often described as “what Massive Attack would sound like doing bong hits with Miles Davis\,” the seven-piece ensemble has carved out a distinct lane in the modern instrumental music scene. \nFormed in 2010\, Polyrhythmics have built a reputation for dynamic live performances and deeply textured compositions. Their growing catalog includes fan-favorite releases like Octagon\, Caldera\, Man from the Future\, and their latest album\, Life From Below (2025). Each project showcases their fearless approach to genre\, fusing global influences with the roots of American funk and soul. \nWith tight musicianship and an undeniable sense of rhythm\, Polyrhythmics create an immersive sonic atmosphere that is both danceable and thought-provoking. Their live shows are where the band truly shines—layering horns\, keys\, and driving percussion into a vibrant\, high-energy performance that keeps audiences locked in from start to finish. \nHaving toured extensively across the U.S. and internationally\, and shared stages with a range of acclaimed artists\, Polyrhythmics continue to expand their reach while staying true to their signature groove-heavy sound. \n\nBuy Tickets: eventim.us/poly2026\n\nVenue Policies (Please Read): \nNo large bags or backpacks. Small purses or clutches only. Outside food and drink are not allowed unless otherwise noted. Exceptions may be made for medical or infant needs. All bags are subject to inspection. Concerts are 18+\, and we ID everyone at the door. Ages 17 & under are allowed IF accompanied by a parent/guardian. All ticket sales final unless the show is cancelled by the venue. If you have questions\, please contact the venue in advance. \nPlease be aware that we are contractually obligated to charge a minimal service fee for show tickets\, online and in person\, by our ticket provider. Thanks for supporting Songbirds!
URL:https://venue.songbirds.org/event/polyrhythmics/
LOCATION:Songbirds\, 206 W Main Street\, Chattanooga\, TN\, 37408\, United States
CATEGORIES:Concerts,Party
ATTACH;FMTTYPE=image/png:https://venue.songbirds.org/wp-content/uploads/sites/2/2026/03/Polyrhythmic_twitter-2-1.png
ORGANIZER;CN="Songbirds":MAILTO:info@songbirdsfoundation.org
END:VEVENT
END:VCALENDAR