BEGIN:VCALENDAR
VERSION:2.0
PRODID:-//Songbirds Venue - ECPv6.15.20//NONSGML v1.0//EN
CALSCALE:GREGORIAN
METHOD:PUBLISH
X-WR-CALNAME:Songbirds Venue
X-ORIGINAL-URL:https://venue.songbirds.org
X-WR-CALDESC:Events for Songbirds Venue
REFRESH-INTERVAL;VALUE=DURATION:PT1H
X-Robots-Tag:noindex
X-PUBLISHED-TTL:PT1H
BEGIN:VTIMEZONE
TZID:America/New_York
BEGIN:DAYLIGHT
TZOFFSETFROM:-0500
TZOFFSETTO:-0400
TZNAME:EDT
DTSTART:20250309T070000
END:DAYLIGHT
BEGIN:STANDARD
TZOFFSETFROM:-0400
TZOFFSETTO:-0500
TZNAME:EST
DTSTART:20251102T060000
END:STANDARD
BEGIN:DAYLIGHT
TZOFFSETFROM:-0500
TZOFFSETTO:-0400
TZNAME:EDT
DTSTART:20260308T070000
END:DAYLIGHT
BEGIN:STANDARD
TZOFFSETFROM:-0400
TZOFFSETTO:-0500
TZNAME:EST
DTSTART:20261101T060000
END:STANDARD
BEGIN:DAYLIGHT
TZOFFSETFROM:-0500
TZOFFSETTO:-0400
TZNAME:EDT
DTSTART:20270314T070000
END:DAYLIGHT
BEGIN:STANDARD
TZOFFSETFROM:-0400
TZOFFSETTO:-0500
TZNAME:EST
DTSTART:20271107T060000
END:STANDARD
END:VTIMEZONE
BEGIN:VEVENT
DTSTART;TZID=America/New_York:20260111T190000
DTEND;TZID=America/New_York:20260111T210000
DTSTAMP:20260422T153024
CREATED:20251214T025701Z
LAST-MODIFIED:20251214T025701Z
UID:10000017-1768158000-1768165200@venue.songbirds.org
SUMMARY:George Lynch of Dokken
DESCRIPTION:Buy tickets: eventim.us/george_lynch\n\nDoors at 6:00 PM\nShow at 7:00 PM\nStanding Show with (+ limited seating options) \nHONORING THE LEGACY OF DOKKEN with GEORGE LYNCH of DOKKEN — with Terry Ilous’ XYZ\, Brett Carlisle of GREAT WHITE and AON\, & Jaron Gulino of Lynch Mob and Heavens Edge \n“THE RISE OF THE DECADES” is a fantastic musical event celebrating the spirit of rock and roll across generations. The lineup features a diverse range of rock bands\, from the young and energetic AON featuring Great White frontman Brett Carlisle to the iconic\, legendary guitarist George Lynch of Dokken and Lynch Mob fame. Terry Ilous’ of XYZ adds another layer to the show with their hits and hidden treasures from the rock vault. The event culminates in a unique collaboration honoring the music of Dokken\, bringing together artists and fans alike to celebrate the enduring legacy of rock and roll. George Lynch and vocalists Terry Ilous and Brett Carlisle perform a set of nonstop Dokken favorites. It’s a fitting tribute to the genre\, ensuring that the spirit of rock and roll lives on for years to come. \nFour Ticket Tier Options: \n\n\nBar Rail Seating $100.00 (includes commemorative lanyard) \n\n\nGA Standing $50.00 \n\n\nStage Left “George Lynch Side” Table $250.00 (includes commemorative lanyard and chance to meet George Lynch) \n\n\nStage Right Table $125.00 (include commemorative lanyard) \n\n\n\n\n\n\n\n\nBuy tickets: eventim.us/george_lynch\n\n\n\n\n\n\n\n\n\n\nVenue Policies (Please Read): \nNo large bags or backpacks. Small purses or clutches only. Outside food and drink are not allowed unless otherwise noted. Exceptions may be made for medical or infant needs. All bags are subject to inspection. Concerts are 18+\, and we ID everyone at the door. Ages 17 & under are allowed IF accompanied by a parent/guardian. All ticket sales final unless the show is cancelled by the venue. If you have questions\, please contact the venue in advance. \nPlease be aware that we are contractually obligated to charge a minimal service fee for show tickets\, online and in person\, by our ticket provider. Thanks for supporting Songbirds!
URL:https://venue.songbirds.org/event/george-lynch/
LOCATION:Songbirds\, 206 W Main Street\, Chattanooga\, TN\, 37408\, United States
CATEGORIES:Concerts
ATTACH;FMTTYPE=image/jpeg:https://venue.songbirds.org/wp-content/uploads/sites/2/2025/12/Facebook-Post-1200-x-630_.jpg
ORGANIZER;CN="Songbirds":MAILTO:info@songbirdsfoundation.org
END:VEVENT
BEGIN:VEVENT
DTSTART;TZID=America/New_York:20260116T190000
DTEND;TZID=America/New_York:20260116T203000
DTSTAMP:20260422T153024
CREATED:20251214T025359Z
LAST-MODIFIED:20251214T025359Z
UID:10000016-1768590000-1768595400@venue.songbirds.org
SUMMARY:Brotherhood – A Doobie Brothers Tribute Band
DESCRIPTION:Buy tickets: eventim.us/brotherhood\n\nDoors at 6:00 PM\nShow at 7:00 PM\nSeated Show \nEstablished in 2019\, Brotherhood\, a vibrant 7-piece Doobie Brothers Tribute band hailing from Atlanta\, Georgia\, has converged with a shared mission: to authentically recreate the electric atmosphere of a “Doobie Brothers” concert. Infused with a deep love for the band’s music and a fusion of individual expertise\, Brotherhood skillfully delivers all the iconic hits from the Doobies’ illustrious 50-year career. Their meticulous dedication shines through as they take audiences on a journey through the best of the Doobies’ discography\, creating a captivating show that elicits a night filled with smiles\, lots of singing\, and irresistible dancing. \nWith a repertoire featuring classics like “Listen To The Music\,” “Jesus Is Just Alright\,” “Long Train Runnin’\,” “China Grove\,” “Rockin’ Down The Highway\,” “Black Water\,” and “What A Fool Believes\,” Brotherhood not only showcases their three main vocalists\, but also highlights the stunning harmonies and irresistible grooves that defined the Doobies’ signature sound. A constant presence at festivals\, arts theaters\, and music venues across the Southeastern US\, Brotherhood has earned acclaim from both casual listeners and die-hard Doobie fans\, consistently hailed as “The best Doobies tribute band they’ve ever seen!” \n\n\n\n\n\n\nBuy tickets: eventim.us/brotherhood\n\n\n\n\n\n\n\n\n\n\nVenue Policies (Please Read): \nNo large bags or backpacks. Small purses or clutches only. Outside food and drink are not allowed unless otherwise noted. Exceptions may be made for medical or infant needs. All bags are subject to inspection. Concerts are 18+\, and we ID everyone at the door. Ages 17 & under are allowed IF accompanied by a parent/guardian. All ticket sales final unless the show is cancelled by the venue. If you have questions\, please contact the venue in advance. \nPlease be aware that we are contractually obligated to charge a minimal service fee for show tickets\, online and in person\, by our ticket provider. Thanks for supporting Songbirds!
URL:https://venue.songbirds.org/event/brotherhood/
LOCATION:Songbirds\, 206 W Main Street\, Chattanooga\, TN\, 37408\, United States
CATEGORIES:Concerts
ATTACH;FMTTYPE=image/jpeg:https://venue.songbirds.org/wp-content/uploads/sites/2/2025/12/Brotherhood-Banner.jpg
ORGANIZER;CN="Songbirds":MAILTO:info@songbirdsfoundation.org
END:VEVENT
BEGIN:VEVENT
DTSTART;TZID=America/New_York:20260117T190000
DTEND;TZID=America/New_York:20260117T203000
DTSTAMP:20260422T153024
CREATED:20251214T025036Z
LAST-MODIFIED:20251214T032703Z
UID:10000015-1768676400-1768681800@venue.songbirds.org
SUMMARY:The Essentials
DESCRIPTION:Buy tickets: eventim.us/theessentials\n\nDoors at 6:00 PM\nShow at 7:00 PM\nStanding Show (+ limited table seating) \nRecognized in 2024 & 2025 by the Chattanooga Times Free Press for best Local Band\, The Essentials perform high energy Classic Rock\, Grunge\, and Southern Rock favorites. You’ll know every song! \nIf you want an experience where you’ll dance to all your Rock classics\, then The Essentials is your band. \nAaron Raulston is from Jasper\, TN and is a well- known and respected drummer in Chattanooga’s music scene. He is the drummer for the world-renowned and locally based progressive rock band\, Glass Hammer. Aaron has had the opportunity to share stages with many revered musicians\, such as… Mike Portnoy\, Billy Sheehan\, Jimmy Keegan\, Alan White\, Chris Squire\, Steve Howe\, Tony Levin\, Pat Mastellotto\, Adrian Belew\, John Wetton\, and Terry Bozzio. Aaron was also featured in the December 5\, 2018 edition of the Italian magazine\, Drum Club. When he is not making music with Glass Hammer\, you will now see him on stage with The Essentials! Aaron is a proud artist for Punkinater Custom Drum/Pelfrey Drum Works and Heartbeat Cymbals. \nSammi Moore is a soulful\, rock & country singer/songwriter hailing from Jasper\, TN. She has performed up and down the East Coast from Key West to New York City in various venues and has opened for the likes of The Marshall Tucker Band\, Chris Cagle\, Big & Rich\, James Otto\, Craig Morgan\, David Allen Coe\, John Michael Montgomery\, Exile\, and The Kentucky Headhunters. She has also placed nationally in several singing and songwriting competitions\, including making it to the top 12 in season 4 of USA Network’s Nashville Star. A true comeback story\, Sammi is excited to be back to her roots and rocking out on stage. \nJohnny G has played guitar on stage from coast to coast\, North to South\, Japan\, The Philippines\, and even Iraq and Afghanistan. His performance and studio experience speaks for itself\, and has performed with Jason Bonham\, The Robert and Dean DeLeo of Stone Temple Pilots\, Vinny and Carmine Appice\, Tony Franklin of The Firm and Blue Murder\, members of Rare Earth\, Overkill\, Candlebox\, and former members of Slaughter\, ZOSO\, The Wildabouts\, and others. Johnny’s influences are deeply rooted in the genius of Jimmy Page\, Pete Townshend\, Stevie Ray Vaughan\, Keith Richards\, and other Rock & Roll and Blues greats. Founding The Essentials after completing 23 years as an active duty Marine\, Johnny is honored to be among such outstanding musicians. \nFind out what the buzz is all about…. The Essentials put on a show you don’t want to miss. \nCheck out their website at essentials423.com \n\n\n\n\n\n\nBuy tickets: eventim.us/theessentials\n\n\n\n\n\n\n\n\n\n\nVenue Policies (Please Read): \nNo large bags or backpacks. Small purses or clutches only. Outside food and drink are not allowed unless otherwise noted. Exceptions may be made for medical or infant needs. All bags are subject to inspection. Concerts are 18+\, and we ID everyone at the door. Ages 17 & under are allowed IF accompanied by a parent/guardian. All ticket sales final unless the show is cancelled by the venue. If you have questions\, please contact the venue in advance. \nPlease be aware that we are contractually obligated to charge a minimal service fee for show tickets\, online and in person\, by our ticket provider. Thanks for supporting Songbirds!
URL:https://venue.songbirds.org/event/the-essentials/
LOCATION:Songbirds\, 206 W Main Street\, Chattanooga\, TN\, 37408\, United States
CATEGORIES:Concerts
ATTACH;FMTTYPE=image/jpeg:https://venue.songbirds.org/wp-content/uploads/sites/2/2025/12/The-Essentials-Banner.jpg
ORGANIZER;CN="Songbirds":MAILTO:info@songbirdsfoundation.org
END:VEVENT
END:VCALENDAR