BEGIN:VCALENDAR
VERSION:2.0
PRODID:-//Songbirds Venue - ECPv6.15.20//NONSGML v1.0//EN
CALSCALE:GREGORIAN
METHOD:PUBLISH
X-WR-CALNAME:Songbirds Venue
X-ORIGINAL-URL:https://venue.songbirds.org
X-WR-CALDESC:Events for Songbirds Venue
REFRESH-INTERVAL;VALUE=DURATION:PT1H
X-Robots-Tag:noindex
X-PUBLISHED-TTL:PT1H
BEGIN:VTIMEZONE
TZID:America/New_York
BEGIN:DAYLIGHT
TZOFFSETFROM:-0500
TZOFFSETTO:-0400
TZNAME:EDT
DTSTART:20250309T070000
END:DAYLIGHT
BEGIN:STANDARD
TZOFFSETFROM:-0400
TZOFFSETTO:-0500
TZNAME:EST
DTSTART:20251102T060000
END:STANDARD
BEGIN:DAYLIGHT
TZOFFSETFROM:-0500
TZOFFSETTO:-0400
TZNAME:EDT
DTSTART:20260308T070000
END:DAYLIGHT
BEGIN:STANDARD
TZOFFSETFROM:-0400
TZOFFSETTO:-0500
TZNAME:EST
DTSTART:20261101T060000
END:STANDARD
BEGIN:DAYLIGHT
TZOFFSETFROM:-0500
TZOFFSETTO:-0400
TZNAME:EDT
DTSTART:20270314T070000
END:DAYLIGHT
BEGIN:STANDARD
TZOFFSETFROM:-0400
TZOFFSETTO:-0500
TZNAME:EST
DTSTART:20271107T060000
END:STANDARD
END:VTIMEZONE
BEGIN:VEVENT
DTSTART;TZID=America/New_York:20260510T190000
DTEND;TZID=America/New_York:20260510T190000
DTSTAMP:20260422T141539
CREATED:20260109T161943Z
LAST-MODIFIED:20260109T161943Z
UID:10000028-1778439600-1778439600@venue.songbirds.org
SUMMARY:Liz Longley
DESCRIPTION:Buy Tickets: eventim.us/lizlongley\n\nDoors at 6:00 PM \nShow at 7:00 PM \nSeated Show \n  \nLiz Longley is a Nashville based singer-songwriter celebrated for her stop-you-in-your-tracks voice and deeply emotional music. Known for her distinctive blend of folk\, pop\, and Americana\, Liz has earned accolades from prestigious songwriting competitions\, including the BMI John Lennon Songwriting Scholarship Competition. \n  \nHer self-titled debut album was praised as “stunning” (HuffPost) and marked by “cleverness and wit” (Dallas Morning News). The follow-up\, Weightless (2016)\, was lauded as “a thing of beauty” by Pop Dose. Liz’s sixth album\, Funeral For My Past\, became a notable success after her fans raised over $150\,000 on Kickstarter to fund its independent release\, making her the #4 most funded solo female musician in Kickstarter history. The album received widespread acclaim\, with Forbes calling it “stunning” and Billboard highlighting its diverse range from Americana to shimmering pop anthems. \n  \nBecoming a mother in 2022 profoundly impacted Liz’s songwriting\, infusing her music with greater depth and perspective. Her most recent album\, New Life (2025)\, reflects this new chapter in her life\, showcasing both her personal growth and her continued evolution as an artist. \n\nBuy Tickets: eventim.us/lizlongley\n\n  \nVenue Policies (Please Read): \nNo large bags or backpacks. Small purses or clutches only. Outside food and drink are not allowed unless otherwise noted. Exceptions may be made for medical or infant needs. All bags are subject to inspection. Concerts are 18+\, and we ID everyone at the door. Ages 17 & under are allowed IF accompanied by a parent/guardian. All ticket sales final unless the show is cancelled by the venue. If you have questions\, please contact the venue in advance. \nPlease be aware that we are contractually obligated to charge a minimal service fee for show tickets\, online and in person\, by our ticket provider. Thanks for supporting Songbirds!
URL:https://venue.songbirds.org/event/liz-longley/
LOCATION:Songbirds\, 206 W Main Street\, Chattanooga\, TN\, 37408\, United States
CATEGORIES:Concerts
ATTACH;FMTTYPE=image/png:https://venue.songbirds.org/wp-content/uploads/sites/2/2026/01/Liz-Longley-X.png
ORGANIZER;CN="Songbirds":MAILTO:info@songbirdsfoundation.org
END:VEVENT
BEGIN:VEVENT
DTSTART;TZID=America/New_York:20260513T180000
DTEND;TZID=America/New_York:20260513T200000
DTSTAMP:20260422T141539
CREATED:20260420T110319Z
LAST-MODIFIED:20260421T181344Z
UID:10000080-1778695200-1778702400@venue.songbirds.org
SUMMARY:Youth Talent Show
DESCRIPTION:Buy Tickets: eventim.us/youthtalentspring26\n\nDoors at 5:30 PM \nShow at 6:00 PM \nSeated \nSongbirds welcomes you back to our beloved biannual Youth Talent Showcase on Wednesday\, May 13th from 6:00–8:00 PM! This special event is designed to give middle and high school students the opportunity to perform on a professional stage and gain real-world industry experience. More than just a talent show\, this event provides young musicians with the tools and mentorship needed to take their artistry to the next level. \nWith only 100 audience tickets available\, this intimate and inspiring event is a must-see for music lovers and supporters of emerging talent. For just $10\, join us in celebrating the next generation of artists and witness the magic as young performers take the stage and share their passion for music! \n\nBuy Tickets: eventim.us/youthtalentspring26\n\nVenue Policies (Please Read): \nNo large bags or backpacks. Small purses or clutches only. Outside food and drink are not allowed unless otherwise noted. Exceptions may be made for medical or infant needs. All bags are subject to inspection. Concerts are 18+\, and we ID everyone at the door. Ages 17 & under are allowed IF accompanied by a parent/guardian. All ticket sales final unless the show is cancelled by the venue. If you have questions\, please contact the venue in advance. \nPlease be aware that we are contractually obligated to charge a minimal service fee for show tickets\, online and in person\, by our ticket provider. Thanks for supporting Songbirds!
URL:https://venue.songbirds.org/event/youth-talent-show/
LOCATION:Songbirds\, 206 W Main Street\, Chattanooga\, TN\, 37408\, United States
CATEGORIES:Concerts
ATTACH;FMTTYPE=image/png:https://venue.songbirds.org/wp-content/uploads/sites/2/2026/04/5.13-Youth-Talent-Show.png
ORGANIZER;CN="Songbirds":MAILTO:info@songbirdsfoundation.org
END:VEVENT
BEGIN:VEVENT
DTSTART;TZID=America/New_York:20260514T190000
DTEND;TZID=America/New_York:20260514T190000
DTSTAMP:20260422T141539
CREATED:20260410T060028Z
LAST-MODIFIED:20260410T173820Z
UID:10000072-1778785200-1778785200@venue.songbirds.org
SUMMARY:Rebecca Frazier
DESCRIPTION:Buy Tickets: eventim.us/rebeccafrazier26\n\nDoors at 6:00 PM \nShow at 7:00 PM \nStanding Show \nRebecca Frazier brings a powerful blend of bluegrass tradition and modern artistry to the Songbirds stage. Widely recognized as a groundbreaking force in the genre\, Frazier made history as the first woman featured on the cover of Flatpicking Guitar Magazine and continues to redefine what bluegrass can be. \nAfter relocating to Nashville\, she quickly earned recognition as “a genuine triple threat as a singer\, songwriter\, and flatpicking guitarist” by The Nashville Scene. Her debut solo album When We Fall was named the best bluegrass album of 2013 by The Bluegrass Situation and climbed to #3 on the Roots Music Report Chart. \nHer latest release\, Boarding Windows in Paradise\, produced by GRAMMY winner Bill Wolf\, showcases collaborations with legends like Béla Fleck\, Sam Bush\, and Stuart Duncan. The album debuted at #4 on the Billboard Bluegrass Chart and earned a Top Ten Americana Album nod from No Depression. \nFrazier continues to break barriers as the first woman nominated for Guitar Performer of the Year by the Society for the Preservation of Bluegrass Music of America\, with back-to-back nominations in 2018 and 2019. Named one of Paste Magazine’s “Seven Women Smashing the Bluegrass Glass Ceiling\,” she stands as a leading voice shaping the future of the genre. \nWith decades of touring across the U.S. and Canada\, Rebecca Frazier delivers a live performance rooted in authenticity\, technical brilliance\, and undeniable soul. \n\nBuy Tickets: eventim.us/rebeccafrazier26\n\n\nVenue Policies (Please Read): \nNo large bags or backpacks. Small purses or clutches only. Outside food and drink are not allowed unless otherwise noted. Exceptions may be made for medical or infant needs. All bags are subject to inspection. Concerts are 18+\, and we ID everyone at the door. Ages 17 & under are allowed IF accompanied by a parent/guardian. All ticket sales final unless the show is cancelled by the venue. If you have questions\, please contact the venue in advance. \nPlease be aware that we are contractually obligated to charge a minimal service fee for show tickets\, online and in person\, by our ticket provider. Thanks for supporting Songbirds!
URL:https://venue.songbirds.org/event/rebecca-frazier/
LOCATION:Songbirds\, 206 W Main Street\, Chattanooga\, TN\, 37408\, United States
CATEGORIES:Concerts,Party
ATTACH;FMTTYPE=image/png:https://venue.songbirds.org/wp-content/uploads/sites/2/2026/04/Rebecca-Frazier-X-1.png
ORGANIZER;CN="Songbirds":MAILTO:info@songbirdsfoundation.org
END:VEVENT
BEGIN:VEVENT
DTSTART;TZID=America/New_York:20260515T190000
DTEND;TZID=America/New_York:20260515T190000
DTSTAMP:20260422T141539
CREATED:20260417T193940Z
LAST-MODIFIED:20260417T193940Z
UID:10000076-1778871600-1778871600@venue.songbirds.org
SUMMARY:Brandon Davis
DESCRIPTION:Buy Tickets: eventim.us/brandondavis26\n\nDoors at 6:00 PM \nShow at 7:00 PM \nSeated Show \nAfter a nearly fatal car crash back in 2019\, Brandon Davis realized just short life can be and was determined not to waste another minute. With the support of his wife and family\, he picked up his guitar and began releasing song after song that quickly caught the attention of millions as Billboard\, People Magazine and more began sharing his story and the music that encompasses it . His second song ever released\, “Step by Step” landed no. 4 on the Billboard charts and garnered Davis fans from across the world. In 2022\, Brandon had the honor of setting off on a 17 show tour with Tim McGraw across the United States . This Tennessee boy is quickly making a name for himself and puts on a show you won’t want to miss! \n\nBuy Tickets: eventim.us/brandondavis26\n\n  \nVenue Policies (Please Read): \nNo large bags or backpacks. Small purses or clutches only. Outside food and drink are not allowed unless otherwise noted. Exceptions may be made for medical or infant needs. All bags are subject to inspection. Concerts are 18+\, and we ID everyone at the door. Ages 17 & under are allowed IF accompanied by a parent/guardian. All ticket sales final unless the show is cancelled by the venue. If you have questions\, please contact the venue in advance. \nPlease be aware that we are contractually obligated to charge a minimal service fee for show tickets\, online and in person\, by our ticket provider. Thanks for supporting Songbirds!
URL:https://venue.songbirds.org/event/brandon-davis/
LOCATION:Songbirds\, 206 W Main Street\, Chattanooga\, TN\, 37408\, United States
CATEGORIES:Concerts
ATTACH;FMTTYPE=image/png:https://venue.songbirds.org/wp-content/uploads/sites/2/2026/04/Brandon-Davis-Facebook-Banner.png
ORGANIZER;CN="Songbirds":MAILTO:info@songbirdsfoundation.org
END:VEVENT
BEGIN:VEVENT
DTSTART;TZID=America/New_York:20260516T190000
DTEND;TZID=America/New_York:20260516T190000
DTSTAMP:20260422T141539
CREATED:20260327T163909Z
LAST-MODIFIED:20260417T183725Z
UID:10000066-1778958000-1778958000@venue.songbirds.org
SUMMARY:Angel Snow w/ Sam Lewis
DESCRIPTION:Buy Tickets: eventim.us/angelsnow2026\n\nDoors at 6:00 PM \nShow at 7:00 PM \nSeated Show \n  \nAngel Snow brings a sound that defies easy categorization\, blending elements of folk\, ambient\, and electronic music into something deeply atmospheric and emotionally resonant. With a career spanning more than 15 years and four full-length records\, Snow has built a reputation for crafting music that feels both intimate and expansive. \nHer early work led to collaborations with Alison Krauss\, while later projects saw her experimenting with lush\, electronic-driven production alongside UK producer Lee Groves. The result was Magnetic\, a critically acclaimed release that introduced her to a global audience and produced the underground viral track “Secret.” \nSnow has continued to evolve with each release\, including Arrows and Arrows (Stripped)\, before delivering her most introspective work yet with Low\, a project shaped by themes of loss\, isolation\, and emotional resilience. Her most recent release\, Yesterday Is Here\, is a vulnerable and haunting tribute to Tom Waits\, showcasing her ability to reinterpret iconic material with depth and nuance. \nOften compared to artists like Leonard Cohen\, Nick Drake\, and Peter Gabriel\, Angel Snow creates music that lingers long after the final note. \nSupport for the evening comes from Sam Lewis\, a Nashville-based artist known for his soulful voice and genre-blending sound. With collaborations spanning from Leon Russell to The Wood Brothers\, and recognition from Chris Stapleton as “a modern Townes Van Zandt\,” Lewis brings a powerful mix of Americana\, psychedelic soul\, and thoughtful storytelling. His music balances feel-good grooves with meaningful commentary\, creating a live experience that is both engaging and reflective. \n  \n\nBuy Tickets: eventim.us/angelsnow2026\n\nVenue Policies (Please Read): \nNo large bags or backpacks. Small purses or clutches only. Outside food and drink are not allowed unless otherwise noted. Exceptions may be made for medical or infant needs. All bags are subject to inspection. Concerts are 18+\, and we ID everyone at the door. Ages 17 & under are allowed IF accompanied by a parent/guardian. All ticket sales final unless the show is cancelled by the venue. If you have questions\, please contact the venue in advance. \nPlease be aware that we are contractually obligated to charge a minimal service fee for show tickets\, online and in person\, by our ticket provider. Thanks for supporting Songbirds!
URL:https://venue.songbirds.org/event/angel-snow/
LOCATION:Songbirds\, 206 W Main Street\, Chattanooga\, TN\, 37408\, United States
CATEGORIES:Concerts,Party
ATTACH;FMTTYPE=image/png:https://venue.songbirds.org/wp-content/uploads/sites/2/2026/03/Angel-Snow_X.png
ORGANIZER;CN="Songbirds":MAILTO:info@songbirdsfoundation.org
END:VEVENT
END:VCALENDAR